BEGIN:VCALENDAR
VERSION:2.0
PRODID:-//Apri International - ECPv6.15.0.1//NONSGML v1.0//EN
CALSCALE:GREGORIAN
METHOD:PUBLISH
X-ORIGINAL-URL:https://aprinternational.eu
X-WR-CALDESC:Eventi per Apri International
REFRESH-INTERVAL;VALUE=DURATION:PT1H
X-Robots-Tag:noindex
X-PUBLISHED-TTL:PT1H
BEGIN:VTIMEZONE
TZID:Europe/Rome
BEGIN:DAYLIGHT
TZOFFSETFROM:+0100
TZOFFSETTO:+0200
TZNAME:CEST
DTSTART:20260329T010000
END:DAYLIGHT
BEGIN:STANDARD
TZOFFSETFROM:+0200
TZOFFSETTO:+0100
TZNAME:CET
DTSTART:20261025T010000
END:STANDARD
END:VTIMEZONE
BEGIN:VEVENT
DTSTART;TZID=Europe/Rome:20260521T140000
DTEND;TZID=Europe/Rome:20260521T180000
DTSTAMP:20260421T230452
CREATED:20251223T143202Z
LAST-MODIFIED:20260401T132915Z
UID:1998-1779372000-1779386400@aprinternational.eu
SUMMARY:Annual International Meeting 2026 - AIM
DESCRIPTION:ANNUAL INTERNATIONAL MEETING 2026\nI liberi professionisti a supporto del Piano Export Italia \n📅 21 Maggio 2026\n📍 Palazzo Rospigliosi – Via 24 Maggio\, 43 – Roma \n✨ Quarta edizione di un appuntamento strategico\nL’Annual International Meeting (AIM)\, giunto alla sua quarta edizione\, è organizzato da Confprofessioni e Apri International\, e rappresenta un evento strategico per i professionisti che intendono ampliare il proprio raggio d’azione nei mercati globali. \nUn’occasione imperdibile per confrontarsi su sfide e opportunità dell’internazionalizzazione\, esplorare nuovi strumenti promozionali e finanziari e rafforzare il proprio network internazionale. \n🎯 Un’agenda ricca di contenuti\nDurante l’AIM 2026\, relatori di alto profilo\, istituzioni\, esperti di export e rappresentanti del mondo delle libere professioni condivideranno strategie\, casi studio e buone pratiche per affrontare con successo i percorsi di internazionalizzazione. \n📌 Consulta il programma ufficiale dell’evento: AIM2026_locandina-PROGRAMMA-01042026_v2\n🔗 Segui i nostri canali ufficiali per rimanere aggiornato. \n📩 Partecipazione\nL’evento è gratuito con registrazione obbligatoria.\nI posti sono limitati. Conferma la tua presenza in anticipo cliccando su Registrati.
URL:https://aprinternational.eu/calendar/annual-international-meeting-2026-aim/
LOCATION:Palazzo Rospigliosi\, Via XXIV Maggio\, 43\, Roma\, RM\, 00187\, Italia
CATEGORIES:Eventi Aprieuropa
ATTACH;FMTTYPE=image/jpeg:https://aprinternational.eu/wp-content/uploads/2025/12/AIM2026.jpg
END:VEVENT
END:VCALENDAR