BEGIN:VCALENDAR
VERSION:2.0
PRODID:-//Apri International - ECPv6.15.0.1//NONSGML v1.0//EN
CALSCALE:GREGORIAN
METHOD:PUBLISH
X-WR-CALNAME:Apri International
X-ORIGINAL-URL:https://aprinternational.eu
X-WR-CALDESC:Eventi per Apri International
REFRESH-INTERVAL;VALUE=DURATION:PT1H
X-Robots-Tag:noindex
X-PUBLISHED-TTL:PT1H
BEGIN:VTIMEZONE
TZID:Europe/Rome
BEGIN:DAYLIGHT
TZOFFSETFROM:+0100
TZOFFSETTO:+0200
TZNAME:CEST
DTSTART:20240331T010000
END:DAYLIGHT
BEGIN:STANDARD
TZOFFSETFROM:+0200
TZOFFSETTO:+0100
TZNAME:CET
DTSTART:20241027T010000
END:STANDARD
END:VTIMEZONE
BEGIN:VEVENT
DTSTART;TZID=Europe/Rome:20240522T140000
DTEND;TZID=Europe/Rome:20240522T190000
DTSTAMP:20260423T180729
CREATED:20231213T100820Z
LAST-MODIFIED:20240504T094619Z
UID:612-1716386400-1716404400@aprinternational.eu
SUMMARY:Annual International Meeting (AIM) 2024
DESCRIPTION:Nell’atteso appuntamento del 2024\, l’Annual Internationalization Meeting\, organizzato da Confprofessioni e Aprinternational\, si prospetta come un’occasione unica. \nRiunendo professionisti di tutto il mondo\, l’evento mira a esplorare le sfide e le opportunità nel panorama internazionale attuale. Con un focus sul networking e sulla condivisione di esperienze di successo\, l’Annual Internationalization Meeting presenterà anche nuovi strumenti promozionali e finanziari per sostenere l’espansione delle imprese sui mercati globali. \nQuesto appuntamento annuale\, concepito come un catalizzatore per le libere professioni\, si propone di plasmare il futuro dello sviluppo internazionale\, offrendo una piattaforma essenziale per la collaborazione e la definizione di strategie innovative. \nIl programma completo\, che includerà gli argomenti trattati e i nomi dei relatori di spicco\, sarà presto disponibile. Restate con noi per ulteriori aggiornamenti. Per partecipare all’AIM 2024\, vi preghiamo di effettuare la registrazione attraverso il nostro modulo online. I posti sono limitati\, quindi assicuratevi di garantire la vostra partecipazione in anticipo.
URL:https://aprinternational.eu/calendar/annual-international-meeting-aim-2024/
LOCATION:Palazzo Rospigliosi\, Via XXIV Maggio\, 43\, Roma\, RM\, 00187\, Italia
CATEGORIES:Eventi Aprieuropa
ATTACH;FMTTYPE=image/png:https://aprinternational.eu/wp-content/uploads/2023/12/25-1-1.png
ORGANIZER;CN="APRI International":MAILTO:info@aprinternational.eu
END:VEVENT
END:VCALENDAR